BEGIN:VCALENDAR
VERSION:2.0
PRODID:-//Oficina Acelerapyme Cooperativas Agroalimentarias de Andalucia - Huelva - ECPv6.15.17//NONSGML v1.0//EN
CALSCALE:GREGORIAN
METHOD:PUBLISH
X-WR-CALNAME:Oficina Acelerapyme Cooperativas Agroalimentarias de Andalucia - Huelva
X-ORIGINAL-URL:https://acelerapyme-huelva-agroalimentarias-andalucia.com
X-WR-CALDESC:Eventos para Oficina Acelerapyme Cooperativas Agroalimentarias de Andalucia - Huelva
REFRESH-INTERVAL;VALUE=DURATION:PT1H
X-Robots-Tag:noindex
X-PUBLISHED-TTL:PT1H
BEGIN:VTIMEZONE
TZID:Europe/Madrid
BEGIN:DAYLIGHT
TZOFFSETFROM:+0100
TZOFFSETTO:+0200
TZNAME:CEST
DTSTART:20250330T010000
END:DAYLIGHT
BEGIN:STANDARD
TZOFFSETFROM:+0200
TZOFFSETTO:+0100
TZNAME:CET
DTSTART:20251026T010000
END:STANDARD
BEGIN:DAYLIGHT
TZOFFSETFROM:+0100
TZOFFSETTO:+0200
TZNAME:CEST
DTSTART:20260329T010000
END:DAYLIGHT
BEGIN:STANDARD
TZOFFSETFROM:+0200
TZOFFSETTO:+0100
TZNAME:CET
DTSTART:20261025T010000
END:STANDARD
BEGIN:DAYLIGHT
TZOFFSETFROM:+0100
TZOFFSETTO:+0200
TZNAME:CEST
DTSTART:20270328T010000
END:DAYLIGHT
BEGIN:STANDARD
TZOFFSETFROM:+0200
TZOFFSETTO:+0100
TZNAME:CET
DTSTART:20271031T010000
END:STANDARD
END:VTIMEZONE
BEGIN:VEVENT
DTSTART;TZID=Europe/Madrid:20260427T093000
DTEND;TZID=Europe/Madrid:20260427T110000
DTSTAMP:20260424T115157
CREATED:20260213T091755Z
LAST-MODIFIED:20260420T081803Z
UID:2214-1777282200-1777287600@acelerapyme-huelva-agroalimentarias-andalucia.com
SUMMARY:ChatGPT: fundamentos de uso profesional
DESCRIPTION:Quinta sesión del programa IA Generativa aplicada al entorno cooperativo. \nIntroducción al uso profesional de ChatGPT aplicado a la gestión administrativa y técnica en cooperativas. \nContenidos: \n• Funcionamiento general de la herramienta \n• Casos de uso reales en gestión cooperativa \n• Apoyo a informes y documentación técnica \n• Mejores prácticas de interacción \n• Criterios para su utilización profesional \nFormato de 90 minutos con espacio para preguntas y análisis práctico. \nDocente: Mike Mosch \n👉 Inscripción abierta \n👉 Más información en la página del webinar
URL:https://acelerapyme-huelva-agroalimentarias-andalucia.com/event/chatgpt-fundamentos-de-uso-profesional/
LOCATION:Huelva
CATEGORIES:Webinars IA 2026
ATTACH;FMTTYPE=image/jpeg:https://acelerapyme-huelva-agroalimentarias-andalucia.com/wp-content/uploads/2026/02/fvxnera8uk0.jpg
END:VEVENT
END:VCALENDAR