BEGIN:VCALENDAR
VERSION:2.0
PRODID:-//Oficina Acelerapyme Cooperativas Agroalimentarias de Andalucia - Huelva - ECPv6.15.17//NONSGML v1.0//EN
CALSCALE:GREGORIAN
METHOD:PUBLISH
X-ORIGINAL-URL:https://acelerapyme-huelva-agroalimentarias-andalucia.com
X-WR-CALDESC:Eventos para Oficina Acelerapyme Cooperativas Agroalimentarias de Andalucia - Huelva
REFRESH-INTERVAL;VALUE=DURATION:PT1H
X-Robots-Tag:noindex
X-PUBLISHED-TTL:PT1H
BEGIN:VTIMEZONE
TZID:Europe/Madrid
BEGIN:DAYLIGHT
TZOFFSETFROM:+0100
TZOFFSETTO:+0200
TZNAME:CEST
DTSTART:20250330T010000
END:DAYLIGHT
BEGIN:STANDARD
TZOFFSETFROM:+0200
TZOFFSETTO:+0100
TZNAME:CET
DTSTART:20251026T010000
END:STANDARD
BEGIN:DAYLIGHT
TZOFFSETFROM:+0100
TZOFFSETTO:+0200
TZNAME:CEST
DTSTART:20260329T010000
END:DAYLIGHT
BEGIN:STANDARD
TZOFFSETFROM:+0200
TZOFFSETTO:+0100
TZNAME:CET
DTSTART:20261025T010000
END:STANDARD
BEGIN:DAYLIGHT
TZOFFSETFROM:+0100
TZOFFSETTO:+0200
TZNAME:CEST
DTSTART:20270328T010000
END:DAYLIGHT
BEGIN:STANDARD
TZOFFSETFROM:+0200
TZOFFSETTO:+0100
TZNAME:CET
DTSTART:20271031T010000
END:STANDARD
END:VTIMEZONE
BEGIN:VEVENT
DTSTART;TZID=Europe/Madrid:20260608T093000
DTEND;TZID=Europe/Madrid:20260608T110000
DTSTAMP:20260424T164154
CREATED:20260213T092242Z
LAST-MODIFIED:20260327T090754Z
UID:2220-1780911000-1780916400@acelerapyme-huelva-agroalimentarias-andalucia.com
SUMMARY:Gemini Pro: uso avanzado en organizaciones
DESCRIPTION:Octava sesión del programa IA Generativa aplicada al entorno cooperativo. \nComparativa práctica entre Gemini y otras herramientas de IA aplicada a situaciones reales de trabajo cooperativo. \nContenidos: \n• Fortalezas y debilidades de cada plataforma \n• Criterios para elegir según la tarea \n• Gestión de información y colaboración en equipo \n• Buenas prácticas organizativas \nDuración total: 90 minutos. \nDocente: Mike Mosch \n👉 Inscripción abierta \n👉 Más información en la página del webinar
URL:https://acelerapyme-huelva-agroalimentarias-andalucia.com/event/gemini-pro-uso-avanzado-en-organizaciones/
LOCATION:Huelva
CATEGORIES:Webinars IA 2026
ATTACH;FMTTYPE=image/jpeg:https://acelerapyme-huelva-agroalimentarias-andalucia.com/wp-content/uploads/2026/02/58hvxsq7rru.jpg
END:VEVENT
END:VCALENDAR