BEGIN:VCALENDAR
VERSION:2.0
PRODID:-//Oficina Acelerapyme Cooperativas Agroalimentarias de Andalucia - Huelva - ECPv6.15.17//NONSGML v1.0//EN
CALSCALE:GREGORIAN
METHOD:PUBLISH
X-ORIGINAL-URL:https://acelerapyme-huelva-agroalimentarias-andalucia.com
X-WR-CALDESC:Eventos para Oficina Acelerapyme Cooperativas Agroalimentarias de Andalucia - Huelva
REFRESH-INTERVAL;VALUE=DURATION:PT1H
X-Robots-Tag:noindex
X-PUBLISHED-TTL:PT1H
BEGIN:VTIMEZONE
TZID:Europe/Madrid
BEGIN:DAYLIGHT
TZOFFSETFROM:+0100
TZOFFSETTO:+0200
TZNAME:CEST
DTSTART:20250330T010000
END:DAYLIGHT
BEGIN:STANDARD
TZOFFSETFROM:+0200
TZOFFSETTO:+0100
TZNAME:CET
DTSTART:20251026T010000
END:STANDARD
BEGIN:DAYLIGHT
TZOFFSETFROM:+0100
TZOFFSETTO:+0200
TZNAME:CEST
DTSTART:20260329T010000
END:DAYLIGHT
BEGIN:STANDARD
TZOFFSETFROM:+0200
TZOFFSETTO:+0100
TZNAME:CET
DTSTART:20261025T010000
END:STANDARD
BEGIN:DAYLIGHT
TZOFFSETFROM:+0100
TZOFFSETTO:+0200
TZNAME:CEST
DTSTART:20270328T010000
END:DAYLIGHT
BEGIN:STANDARD
TZOFFSETFROM:+0200
TZOFFSETTO:+0100
TZNAME:CET
DTSTART:20271031T010000
END:STANDARD
END:VTIMEZONE
BEGIN:VEVENT
DTSTART;TZID=Europe/Madrid:20260302T103000
DTEND;TZID=Europe/Madrid:20260302T120000
DTSTAMP:20260424T152655
CREATED:20260213T090933Z
LAST-MODIFIED:20260226T091330Z
UID:2208-1772447400-1772452800@acelerapyme-huelva-agroalimentarias-andalucia.com
SUMMARY:Ética\, privacidad y protección del fondo de comercio cooperativo
DESCRIPTION:Segunda sesión del programa IA Generativa aplicada al entorno cooperativo. \nLa adopción de IA debe realizarse con criterios de seguridad\, confidencialidad y responsabilidad directiva para proteger el capital intelectual y reputacional de la cooperativa. \nSe trabajará sobre: \n• Qué información nunca debe compartirse con sistemas de IA \n• Protección de datos sensibles y confidenciales \n• Riesgos legales\, reputacionales y operativos \n• Protocolos internos de seguridad \n• Rol del liderazgo en la implantación responsable \nDuración: 90 minutos \nIncluye espacio para análisis de casos reales planteados por los participantes. \nDocente: Mike Mosch \n👉 Inscripción abierta \n👉 Más información en la página del webinar
URL:https://acelerapyme-huelva-agroalimentarias-andalucia.com/event/etica-privacidad-y-proteccion-del-fondo-de-comercio-cooperativo/
LOCATION:Huelva
CATEGORIES:Webinars IA 2026
ATTACH;FMTTYPE=image/jpeg:https://acelerapyme-huelva-agroalimentarias-andalucia.com/wp-content/uploads/2026/02/16461434.jpeg
END:VEVENT
END:VCALENDAR