BEGIN:VCALENDAR
VERSION:2.0
PRODID:-//Oficina Acelerapyme Cooperativas Agroalimentarias de Andalucia - Huelva - ECPv6.15.17//NONSGML v1.0//EN
CALSCALE:GREGORIAN
METHOD:PUBLISH
X-ORIGINAL-URL:https://acelerapyme-huelva-agroalimentarias-andalucia.com
X-WR-CALDESC:Eventos para Oficina Acelerapyme Cooperativas Agroalimentarias de Andalucia - Huelva
REFRESH-INTERVAL;VALUE=DURATION:PT1H
X-Robots-Tag:noindex
X-PUBLISHED-TTL:PT1H
BEGIN:VTIMEZONE
TZID:Europe/Madrid
BEGIN:DAYLIGHT
TZOFFSETFROM:+0100
TZOFFSETTO:+0200
TZNAME:CEST
DTSTART:20250330T010000
END:DAYLIGHT
BEGIN:STANDARD
TZOFFSETFROM:+0200
TZOFFSETTO:+0100
TZNAME:CET
DTSTART:20251026T010000
END:STANDARD
BEGIN:DAYLIGHT
TZOFFSETFROM:+0100
TZOFFSETTO:+0200
TZNAME:CEST
DTSTART:20260329T010000
END:DAYLIGHT
BEGIN:STANDARD
TZOFFSETFROM:+0200
TZOFFSETTO:+0100
TZNAME:CET
DTSTART:20261025T010000
END:STANDARD
BEGIN:DAYLIGHT
TZOFFSETFROM:+0100
TZOFFSETTO:+0200
TZNAME:CEST
DTSTART:20270328T010000
END:DAYLIGHT
BEGIN:STANDARD
TZOFFSETFROM:+0200
TZOFFSETTO:+0100
TZNAME:CET
DTSTART:20271031T010000
END:STANDARD
END:VTIMEZONE
BEGIN:VEVENT
DTSTART;TZID=Europe/Madrid:20260511T093000
DTEND;TZID=Europe/Madrid:20260511T110000
DTSTAMP:20260424T134030
CREATED:20260213T091928Z
LAST-MODIFIED:20260420T081836Z
UID:2216-1778491800-1778497200@acelerapyme-huelva-agroalimentarias-andalucia.com
SUMMARY:ChatGPT: uso avanzado y productividad real
DESCRIPTION:Sexta sesión del programa IA Generativa aplicada al entorno cooperativo. \nEn esta sesión se profundizará en el uso avanzado de ChatGPT para mejorar la productividad real en la gestión diaria de la cooperativa. \nContenidos: \n• Diseño de flujos de trabajo estructurados \n• Automatización de tareas repetitivas \n• Reutilización de prompts y consistencia de resultados \n• Métodos de validación y control de calidad \n• Integración en el día a día sin generar dependencia tecnológica \nDuración: 90 minutos. \nDocente: Mike Mosch \n👉 Inscripción abierta \n👉 Más información en la página del webinar
URL:https://acelerapyme-huelva-agroalimentarias-andalucia.com/event/chatgpt-uso-avanzado-y-productividad-real/
LOCATION:Huelva
CATEGORIES:Webinars IA 2026
ATTACH;FMTTYPE=image/jpeg:https://acelerapyme-huelva-agroalimentarias-andalucia.com/wp-content/uploads/2026/02/n8ayh8r2rwq.jpg
END:VEVENT
BEGIN:VEVENT
DTSTART;TZID=Europe/Madrid:20260525T093000
DTEND;TZID=Europe/Madrid:20260525T110000
DTSTAMP:20260424T134030
CREATED:20260213T092108Z
LAST-MODIFIED:20260420T081910Z
UID:2218-1779701400-1779706800@acelerapyme-huelva-agroalimentarias-andalucia.com
SUMMARY:Gemini Pro y Google AI: visión general
DESCRIPTION:Séptima sesión del programa IA Generativa aplicada al entorno cooperativo. \nAnálisis de Gemini Pro y su integración con el ecosistema Google para la coordinación de equipos y gestión de proyectos. \nContenidos: \n• Qué es Gemini y diferencias frente a otros modelos \n• Integración con herramientas de Google \n• Casos de uso en coordinación cooperativa \n• Ventajas y limitaciones en entorno organizativo \nDuración: 90 minutos con espacio interactivo. \nDocente: Mike Mosch \n👉 Inscripción abierta \n👉 Más información en la página del webinar
URL:https://acelerapyme-huelva-agroalimentarias-andalucia.com/event/gemini-pro-y-google-ai-vision-general/
LOCATION:Huelva
CATEGORIES:Webinars IA 2026
ATTACH;FMTTYPE=image/jpeg:https://acelerapyme-huelva-agroalimentarias-andalucia.com/wp-content/uploads/2026/02/ngocbxiaro0.jpg
END:VEVENT
END:VCALENDAR