BEGIN:VCALENDAR
VERSION:2.0
PRODID:-//Oficina Acelerapyme Cooperativas Agroalimentarias de Andalucia - Huelva - ECPv6.15.17//NONSGML v1.0//EN
CALSCALE:GREGORIAN
METHOD:PUBLISH
X-ORIGINAL-URL:https://acelerapyme-huelva-agroalimentarias-andalucia.com
X-WR-CALDESC:Eventos para Oficina Acelerapyme Cooperativas Agroalimentarias de Andalucia - Huelva
REFRESH-INTERVAL;VALUE=DURATION:PT1H
X-Robots-Tag:noindex
X-PUBLISHED-TTL:PT1H
BEGIN:VTIMEZONE
TZID:Europe/Madrid
BEGIN:DAYLIGHT
TZOFFSETFROM:+0100
TZOFFSETTO:+0200
TZNAME:CEST
DTSTART:20250330T010000
END:DAYLIGHT
BEGIN:STANDARD
TZOFFSETFROM:+0200
TZOFFSETTO:+0100
TZNAME:CET
DTSTART:20251026T010000
END:STANDARD
BEGIN:DAYLIGHT
TZOFFSETFROM:+0100
TZOFFSETTO:+0200
TZNAME:CEST
DTSTART:20260329T010000
END:DAYLIGHT
BEGIN:STANDARD
TZOFFSETFROM:+0200
TZOFFSETTO:+0100
TZNAME:CET
DTSTART:20261025T010000
END:STANDARD
BEGIN:DAYLIGHT
TZOFFSETFROM:+0100
TZOFFSETTO:+0200
TZNAME:CEST
DTSTART:20270328T010000
END:DAYLIGHT
BEGIN:STANDARD
TZOFFSETFROM:+0200
TZOFFSETTO:+0100
TZNAME:CET
DTSTART:20271031T010000
END:STANDARD
END:VTIMEZONE
BEGIN:VEVENT
DTSTART;TZID=Europe/Madrid:20260713T093000
DTEND;TZID=Europe/Madrid:20260713T110000
DTSTAMP:20260424T161045
CREATED:20260213T085540Z
LAST-MODIFIED:20260327T091024Z
UID:2196-1783935000-1783940400@acelerapyme-huelva-agroalimentarias-andalucia.com
SUMMARY:Taller de prompts de análisis profundo (Deep Research)
DESCRIPTION:Décima sesión del programa IA Generativa aplicada al entorno cooperativo. \nTécnicas avanzadas para solicitar análisis complejos y apoyar procesos de toma de decisiones estratégicas en cooperativas. \nContenidos: \n• Solicitud de comparativas y análisis detallados \n• Técnicas para obtener información estructurada \n• Síntesis crítica de grandes volúmenes de datos \n• Generación de insights accionables \n• Aplicación directa a casos reales del entorno cooperativo \nDuración: 90 minutos. \nDocente: Mike Mosch \n👉 Inscripción abierta. \n👉 Más información en la página del webinar.
URL:https://acelerapyme-huelva-agroalimentarias-andalucia.com/event/taller-de-prompts-de-analisis-profundo-deep-research/
LOCATION:Huelva
CATEGORIES:Webinars IA 2026
ATTACH;FMTTYPE=image/jpeg:https://acelerapyme-huelva-agroalimentarias-andalucia.com/wp-content/uploads/2026/02/8d0snt5e9ps.jpg
END:VEVENT
END:VCALENDAR