BEGIN:VCALENDAR
VERSION:2.0
PRODID:-//Oficina Acelerapyme Cooperativas Agroalimentarias de Andalucia - Huelva - ECPv6.15.17//NONSGML v1.0//EN
CALSCALE:GREGORIAN
METHOD:PUBLISH
X-ORIGINAL-URL:https://acelerapyme-huelva-agroalimentarias-andalucia.com
X-WR-CALDESC:Eventos para Oficina Acelerapyme Cooperativas Agroalimentarias de Andalucia - Huelva
REFRESH-INTERVAL;VALUE=DURATION:PT1H
X-Robots-Tag:noindex
X-PUBLISHED-TTL:PT1H
BEGIN:VTIMEZONE
TZID:Europe/Madrid
BEGIN:DAYLIGHT
TZOFFSETFROM:+0100
TZOFFSETTO:+0200
TZNAME:CEST
DTSTART:20250330T010000
END:DAYLIGHT
BEGIN:STANDARD
TZOFFSETFROM:+0200
TZOFFSETTO:+0100
TZNAME:CET
DTSTART:20251026T010000
END:STANDARD
BEGIN:DAYLIGHT
TZOFFSETFROM:+0100
TZOFFSETTO:+0200
TZNAME:CEST
DTSTART:20260329T010000
END:DAYLIGHT
BEGIN:STANDARD
TZOFFSETFROM:+0200
TZOFFSETTO:+0100
TZNAME:CET
DTSTART:20261025T010000
END:STANDARD
BEGIN:DAYLIGHT
TZOFFSETFROM:+0100
TZOFFSETTO:+0200
TZNAME:CEST
DTSTART:20270328T010000
END:DAYLIGHT
BEGIN:STANDARD
TZOFFSETFROM:+0200
TZOFFSETTO:+0100
TZNAME:CET
DTSTART:20271031T010000
END:STANDARD
END:VTIMEZONE
BEGIN:VEVENT
DTSTART;TZID=Europe/Madrid:20260413T093000
DTEND;TZID=Europe/Madrid:20260413T110000
DTSTAMP:20260424T120528
CREATED:20260213T091522Z
LAST-MODIFIED:20260407T123702Z
UID:2212-1776072600-1776078000@acelerapyme-huelva-agroalimentarias-andalucia.com
SUMMARY:De la digitalización al ecosistema inteligente
DESCRIPTION:Cuarta sesión del programa IA Generativa aplicada al entorno cooperativo. \nMuchas organizaciones adoptan herramientas digitales de forma aislada. Este webinar explica cómo evolucionar hacia un ecosistema inteligente coherente\, escalable y alineado con la estrategia cooperativa. \nSe abordará: \n• Qué es un ecosistema de IA \n• Integración entre personas\, procesos y tecnología \n• Cómo evitar soluciones aisladas y poco escalables \n• Hoja de ruta para una implantación progresiva \n• Minimización de riesgos y optimización de recursos \nDuración total: 90 minutos. \nDocente: Mike Mosch \n👉 Inscripción abierta \n👉 Más información en la página del webinar
URL:https://acelerapyme-huelva-agroalimentarias-andalucia.com/event/de-la-digitalizacion-al-ecosistema-inteligente/
LOCATION:Huelva
CATEGORIES:Webinars IA 2026
ATTACH;FMTTYPE=image/jpeg:https://acelerapyme-huelva-agroalimentarias-andalucia.com/wp-content/uploads/2026/02/18069157.png
END:VEVENT
END:VCALENDAR