BEGIN:VCALENDAR
VERSION:2.0
PRODID:-//Oficina Acelerapyme Cooperativas Agroalimentarias de Andalucia - Huelva - ECPv6.15.17//NONSGML v1.0//EN
CALSCALE:GREGORIAN
METHOD:PUBLISH
X-ORIGINAL-URL:https://acelerapyme-huelva-agroalimentarias-andalucia.com
X-WR-CALDESC:Eventos para Oficina Acelerapyme Cooperativas Agroalimentarias de Andalucia - Huelva
REFRESH-INTERVAL;VALUE=DURATION:PT1H
X-Robots-Tag:noindex
X-PUBLISHED-TTL:PT1H
BEGIN:VTIMEZONE
TZID:Europe/Madrid
BEGIN:DAYLIGHT
TZOFFSETFROM:+0100
TZOFFSETTO:+0200
TZNAME:CEST
DTSTART:20250330T010000
END:DAYLIGHT
BEGIN:STANDARD
TZOFFSETFROM:+0200
TZOFFSETTO:+0100
TZNAME:CET
DTSTART:20251026T010000
END:STANDARD
BEGIN:DAYLIGHT
TZOFFSETFROM:+0100
TZOFFSETTO:+0200
TZNAME:CEST
DTSTART:20260329T010000
END:DAYLIGHT
BEGIN:STANDARD
TZOFFSETFROM:+0200
TZOFFSETTO:+0100
TZNAME:CET
DTSTART:20261025T010000
END:STANDARD
BEGIN:DAYLIGHT
TZOFFSETFROM:+0100
TZOFFSETTO:+0200
TZNAME:CEST
DTSTART:20270328T010000
END:DAYLIGHT
BEGIN:STANDARD
TZOFFSETFROM:+0200
TZOFFSETTO:+0100
TZNAME:CET
DTSTART:20271031T010000
END:STANDARD
END:VTIMEZONE
BEGIN:VEVENT
DTSTART;TZID=Europe/Madrid:20260223T223000
DTEND;TZID=Europe/Madrid:20260223T120000
DTSTAMP:20260424T131459
CREATED:20260213T090801Z
LAST-MODIFIED:20260217T122552Z
UID:2206-1771885800-1771848000@acelerapyme-huelva-agroalimentarias-andalucia.com
SUMMARY:El impacto real de la IA generativa en la gestión cooperativa
DESCRIPTION:Primera sesión del programa IA Generativa aplicada al entorno cooperativo. \nLa Inteligencia Artificial generativa ya está transformando la gestión empresarial. En esta sesión analizaremos su impacto real en cooperativas agrarias y agroalimentarias desde una perspectiva estratégica\, práctica y aplicada al territorio. \nDurante el webinar se abordará: \n• Qué es y qué no es la IA generativa \n• Diferencia entre digitalización tradicional y ecosistemas inteligentes \n• Impacto en productividad y toma de decisiones \n• Casos reales en cooperativas \n• Riesgos de una adopción precipitada o desordenada \nFormato de la sesión (90 minutos): \n60 minutos de exposición guiada \n30 minutos de diálogo interactivo y resolución de dudas \nDocente: Mike Mosch \n👉 Inscripción abierta \n👉 Más información en la página del webinar
URL:https://acelerapyme-huelva-agroalimentarias-andalucia.com/event/el-impacto-real-de-la-ia-generativa-en-la-gestion-cooperativa/
LOCATION:Huelva
CATEGORIES:Webinars IA 2026
ATTACH;FMTTYPE=image/jpeg:https://acelerapyme-huelva-agroalimentarias-andalucia.com/wp-content/uploads/2026/02/18069160.png
END:VEVENT
END:VCALENDAR